BEGIN:VCALENDAR
VERSION:2.0
PRODID:-//Crossroad Christian Church - ECPv6.15.18//NONSGML v1.0//EN
CALSCALE:GREGORIAN
METHOD:PUBLISH
X-ORIGINAL-URL:https://www.crossroadchristian.church
X-WR-CALDESC:Events for Crossroad Christian Church
REFRESH-INTERVAL;VALUE=DURATION:PT1H
X-Robots-Tag:noindex
X-PUBLISHED-TTL:PT1H
BEGIN:VTIMEZONE
TZID:America/New_York
BEGIN:DAYLIGHT
TZOFFSETFROM:-0500
TZOFFSETTO:-0400
TZNAME:EDT
DTSTART:20250309T070000
END:DAYLIGHT
BEGIN:STANDARD
TZOFFSETFROM:-0400
TZOFFSETTO:-0500
TZNAME:EST
DTSTART:20251102T060000
END:STANDARD
BEGIN:DAYLIGHT
TZOFFSETFROM:-0500
TZOFFSETTO:-0400
TZNAME:EDT
DTSTART:20260308T070000
END:DAYLIGHT
BEGIN:STANDARD
TZOFFSETFROM:-0400
TZOFFSETTO:-0500
TZNAME:EST
DTSTART:20261101T060000
END:STANDARD
BEGIN:DAYLIGHT
TZOFFSETFROM:-0500
TZOFFSETTO:-0400
TZNAME:EDT
DTSTART:20270314T070000
END:DAYLIGHT
BEGIN:STANDARD
TZOFFSETFROM:-0400
TZOFFSETTO:-0500
TZNAME:EST
DTSTART:20271107T060000
END:STANDARD
END:VTIMEZONE
BEGIN:VEVENT
DTSTART;TZID=America/New_York:20260713T183000
DTEND;TZID=America/New_York:20260713T203500
DTSTAMP:20260424T155339
CREATED:20260402T234427Z
LAST-MODIFIED:20260402T234427Z
UID:6310-1783967400-1783974900@www.crossroadchristian.church
SUMMARY:Rainforest Falls VBS
DESCRIPTION:
URL:https://www.crossroadchristian.church/event/6310/
LOCATION:Crossroad Christian Church\, 623 Bicyle Path\, Suite 5\, Port Jefferson Station\, NY\, 11776\, United States
CATEGORIES:Children's Ministry
END:VEVENT
BEGIN:VEVENT
DTSTART;TZID=America/New_York:20260714T183000
DTEND;TZID=America/New_York:20260714T203500
DTSTAMP:20260424T155339
CREATED:20260402T234427Z
LAST-MODIFIED:20260402T234427Z
UID:6311-1784053800-1784061300@www.crossroadchristian.church
SUMMARY:Rainforest Falls VBS
DESCRIPTION:
URL:https://www.crossroadchristian.church/event/6311/
LOCATION:Crossroad Christian Church\, 623 Bicyle Path\, Suite 5\, Port Jefferson Station\, NY\, 11776\, United States
CATEGORIES:Children's Ministry
END:VEVENT
BEGIN:VEVENT
DTSTART;TZID=America/New_York:20260715T183000
DTEND;TZID=America/New_York:20260715T203500
DTSTAMP:20260424T155339
CREATED:20260402T234427Z
LAST-MODIFIED:20260402T234427Z
UID:6312-1784140200-1784147700@www.crossroadchristian.church
SUMMARY:Rainforest Falls VBS
DESCRIPTION:
URL:https://www.crossroadchristian.church/event/6312/
LOCATION:Crossroad Christian Church\, 623 Bicyle Path\, Suite 5\, Port Jefferson Station\, NY\, 11776\, United States
CATEGORIES:Children's Ministry
END:VEVENT
BEGIN:VEVENT
DTSTART;TZID=America/New_York:20260716T183000
DTEND;TZID=America/New_York:20260716T203500
DTSTAMP:20260424T155339
CREATED:20260402T234427Z
LAST-MODIFIED:20260402T234427Z
UID:6313-1784226600-1784234100@www.crossroadchristian.church
SUMMARY:Rainforest Falls VBS
DESCRIPTION:
URL:https://www.crossroadchristian.church/event/6313/
LOCATION:Crossroad Christian Church\, 623 Bicyle Path\, Suite 5\, Port Jefferson Station\, NY\, 11776\, United States
CATEGORIES:Children's Ministry
END:VEVENT
BEGIN:VEVENT
DTSTART;TZID=America/New_York:20260717T183000
DTEND;TZID=America/New_York:20260717T203500
DTSTAMP:20260424T155339
CREATED:20260402T234427Z
LAST-MODIFIED:20260402T234427Z
UID:6314-1784313000-1784320500@www.crossroadchristian.church
SUMMARY:Rainforest Falls VBS
DESCRIPTION:
URL:https://www.crossroadchristian.church/event/6314/
LOCATION:Crossroad Christian Church\, 623 Bicyle Path\, Suite 5\, Port Jefferson Station\, NY\, 11776\, United States
CATEGORIES:Children's Ministry
END:VEVENT
END:VCALENDAR