BEGIN:VCALENDAR
VERSION:2.0
PRODID:-//Crossroad Christian Church - ECPv6.15.18//NONSGML v1.0//EN
CALSCALE:GREGORIAN
METHOD:PUBLISH
X-ORIGINAL-URL:https://www.crossroadchristian.church
X-WR-CALDESC:Events for Crossroad Christian Church
REFRESH-INTERVAL;VALUE=DURATION:PT1H
X-Robots-Tag:noindex
X-PUBLISHED-TTL:PT1H
BEGIN:VTIMEZONE
TZID:America/New_York
BEGIN:DAYLIGHT
TZOFFSETFROM:-0500
TZOFFSETTO:-0400
TZNAME:EDT
DTSTART:20230312T070000
END:DAYLIGHT
BEGIN:STANDARD
TZOFFSETFROM:-0400
TZOFFSETTO:-0500
TZNAME:EST
DTSTART:20231105T060000
END:STANDARD
BEGIN:DAYLIGHT
TZOFFSETFROM:-0500
TZOFFSETTO:-0400
TZNAME:EDT
DTSTART:20240310T070000
END:DAYLIGHT
BEGIN:STANDARD
TZOFFSETFROM:-0400
TZOFFSETTO:-0500
TZNAME:EST
DTSTART:20241103T060000
END:STANDARD
BEGIN:DAYLIGHT
TZOFFSETFROM:-0500
TZOFFSETTO:-0400
TZNAME:EDT
DTSTART:20250309T070000
END:DAYLIGHT
BEGIN:STANDARD
TZOFFSETFROM:-0400
TZOFFSETTO:-0500
TZNAME:EST
DTSTART:20251102T060000
END:STANDARD
END:VTIMEZONE
BEGIN:VEVENT
DTSTART;TZID=America/New_York:20241102T120000
DTEND;TZID=America/New_York:20241102T140000
DTSTAMP:20260425T183954
CREATED:20250318T013033Z
LAST-MODIFIED:20250318T013033Z
UID:5989-1730548800-1730556000@www.crossroadchristian.church
SUMMARY:Ladies' Fall Tea
DESCRIPTION:
URL:https://www.crossroadchristian.church/event/5989/
LOCATION:Crossroad Christian Church\, 623 Bicyle Path\, Suite 5\, Port Jefferson Station\, NY\, 11776\, United States
CATEGORIES:Fellowship,Women's Ministry
END:VEVENT
BEGIN:VEVENT
DTSTART;TZID=America/New_York:20241120T180000
DTEND;TZID=America/New_York:20241120T200000
DTSTAMP:20260425T183954
CREATED:20250318T013033Z
LAST-MODIFIED:20250318T013033Z
UID:5990-1732125600-1732132800@www.crossroadchristian.church
SUMMARY:Thanksgiving Potluck
DESCRIPTION:
URL:https://www.crossroadchristian.church/event/5990/
LOCATION:Crossroad Christian Church\, 623 Bicyle Path\, Suite 5\, Port Jefferson Station\, NY\, 11776\, United States
CATEGORIES:Fellowship
END:VEVENT
END:VCALENDAR