BEGIN:VCALENDAR
VERSION:2.0
PRODID:-//Crossroad Christian Church - ECPv6.15.18//NONSGML v1.0//EN
CALSCALE:GREGORIAN
METHOD:PUBLISH
X-ORIGINAL-URL:https://www.crossroadchristian.church
X-WR-CALDESC:Events for Crossroad Christian Church
REFRESH-INTERVAL;VALUE=DURATION:PT1H
X-Robots-Tag:noindex
X-PUBLISHED-TTL:PT1H
BEGIN:VTIMEZONE
TZID:America/New_York
BEGIN:DAYLIGHT
TZOFFSETFROM:-0500
TZOFFSETTO:-0400
TZNAME:EDT
DTSTART:20230312T070000
END:DAYLIGHT
BEGIN:STANDARD
TZOFFSETFROM:-0400
TZOFFSETTO:-0500
TZNAME:EST
DTSTART:20231105T060000
END:STANDARD
BEGIN:DAYLIGHT
TZOFFSETFROM:-0500
TZOFFSETTO:-0400
TZNAME:EDT
DTSTART:20240310T070000
END:DAYLIGHT
BEGIN:STANDARD
TZOFFSETFROM:-0400
TZOFFSETTO:-0500
TZNAME:EST
DTSTART:20241103T060000
END:STANDARD
BEGIN:DAYLIGHT
TZOFFSETFROM:-0500
TZOFFSETTO:-0400
TZNAME:EDT
DTSTART:20250309T070000
END:DAYLIGHT
BEGIN:STANDARD
TZOFFSETFROM:-0400
TZOFFSETTO:-0500
TZNAME:EST
DTSTART:20251102T060000
END:STANDARD
END:VTIMEZONE
BEGIN:VEVENT
DTSTART;TZID=America/New_York:20241009T193000
DTEND;TZID=America/New_York:20241009T203000
DTSTAMP:20260426T000834
CREATED:20240902T105457Z
LAST-MODIFIED:20240902T105457Z
UID:5906-1728502200-1728505800@www.crossroadchristian.church
SUMMARY:Bible Training
DESCRIPTION:
URL:https://www.crossroadchristian.church/event/5906/
LOCATION:Crossroad Christian Church\, 623 Bicyle Path\, Suite 5\, Port Jefferson Station\, NY\, 11776\, United States
CATEGORIES:Bible Study,Men's Ministry,Women's Ministry
END:VEVENT
BEGIN:VEVENT
DTSTART;TZID=America/New_York:20241016T193000
DTEND;TZID=America/New_York:20241016T203000
DTSTAMP:20260426T000834
CREATED:20240902T105457Z
LAST-MODIFIED:20240902T105457Z
UID:5907-1729107000-1729110600@www.crossroadchristian.church
SUMMARY:Bible Training
DESCRIPTION:
URL:https://www.crossroadchristian.church/event/5907/
LOCATION:Crossroad Christian Church\, 623 Bicyle Path\, Suite 5\, Port Jefferson Station\, NY\, 11776\, United States
CATEGORIES:Bible Study,Men's Ministry,Women's Ministry
END:VEVENT
BEGIN:VEVENT
DTSTART;TZID=America/New_York:20241023T193000
DTEND;TZID=America/New_York:20241023T203000
DTSTAMP:20260426T000834
CREATED:20240902T105457Z
LAST-MODIFIED:20240902T105457Z
UID:5908-1729711800-1729715400@www.crossroadchristian.church
SUMMARY:Bible Training
DESCRIPTION:
URL:https://www.crossroadchristian.church/event/5908/
LOCATION:Crossroad Christian Church\, 623 Bicyle Path\, Suite 5\, Port Jefferson Station\, NY\, 11776\, United States
CATEGORIES:Bible Study,Men's Ministry,Women's Ministry
END:VEVENT
BEGIN:VEVENT
DTSTART;TZID=America/New_York:20241030T193000
DTEND;TZID=America/New_York:20241030T203000
DTSTAMP:20260426T000834
CREATED:20240902T105457Z
LAST-MODIFIED:20240902T105457Z
UID:5909-1730316600-1730320200@www.crossroadchristian.church
SUMMARY:Bible Training
DESCRIPTION:
URL:https://www.crossroadchristian.church/event/5909/
LOCATION:Crossroad Christian Church\, 623 Bicyle Path\, Suite 5\, Port Jefferson Station\, NY\, 11776\, United States
CATEGORIES:Bible Study,Men's Ministry,Women's Ministry
END:VEVENT
END:VCALENDAR