BEGIN:VCALENDAR
VERSION:2.0
PRODID:-//Crossroad Christian Church - ECPv6.15.18//NONSGML v1.0//EN
CALSCALE:GREGORIAN
METHOD:PUBLISH
X-WR-CALNAME:Crossroad Christian Church
X-ORIGINAL-URL:https://www.crossroadchristian.church
X-WR-CALDESC:Events for Crossroad Christian Church
REFRESH-INTERVAL;VALUE=DURATION:PT1H
X-Robots-Tag:noindex
X-PUBLISHED-TTL:PT1H
BEGIN:VTIMEZONE
TZID:America/New_York
BEGIN:DAYLIGHT
TZOFFSETFROM:-0500
TZOFFSETTO:-0400
TZNAME:EDT
DTSTART:20250309T070000
END:DAYLIGHT
BEGIN:STANDARD
TZOFFSETFROM:-0400
TZOFFSETTO:-0500
TZNAME:EST
DTSTART:20251102T060000
END:STANDARD
BEGIN:DAYLIGHT
TZOFFSETFROM:-0500
TZOFFSETTO:-0400
TZNAME:EDT
DTSTART:20260308T070000
END:DAYLIGHT
BEGIN:STANDARD
TZOFFSETFROM:-0400
TZOFFSETTO:-0500
TZNAME:EST
DTSTART:20261101T060000
END:STANDARD
BEGIN:DAYLIGHT
TZOFFSETFROM:-0500
TZOFFSETTO:-0400
TZNAME:EDT
DTSTART:20270314T070000
END:DAYLIGHT
BEGIN:STANDARD
TZOFFSETFROM:-0400
TZOFFSETTO:-0500
TZNAME:EST
DTSTART:20271107T060000
END:STANDARD
END:VTIMEZONE
BEGIN:VEVENT
DTSTART;TZID=America/New_York:20260301T110000
DTEND;TZID=America/New_York:20260301T130000
DTSTAMP:20260424T102333
CREATED:20260307T195025Z
LAST-MODIFIED:20260307T195025Z
UID:6278-1772362800-1772370000@www.crossroadchristian.church
SUMMARY:Worship Service
DESCRIPTION:
URL:https://www.crossroadchristian.church/event/6278/
LOCATION:Crossroad Christian Church\, 623 Bicyle Path\, Suite 5\, Port Jefferson Station\, NY\, 11776\, United States
CATEGORIES:Worship Service
END:VEVENT
BEGIN:VEVENT
DTSTART;TZID=America/New_York:20260308T110000
DTEND;TZID=America/New_York:20260308T130000
DTSTAMP:20260424T102333
CREATED:20260307T195025Z
LAST-MODIFIED:20260307T195025Z
UID:6279-1772967600-1772974800@www.crossroadchristian.church
SUMMARY:Worship Service
DESCRIPTION:
URL:https://www.crossroadchristian.church/event/6279/
LOCATION:Crossroad Christian Church\, 623 Bicyle Path\, Suite 5\, Port Jefferson Station\, NY\, 11776\, United States
CATEGORIES:Worship Service
END:VEVENT
BEGIN:VEVENT
DTSTART;TZID=America/New_York:20260315T110000
DTEND;TZID=America/New_York:20260315T130000
DTSTAMP:20260424T102333
CREATED:20260307T195025Z
LAST-MODIFIED:20260307T195025Z
UID:6281-1773572400-1773579600@www.crossroadchristian.church
SUMMARY:Worship Service
DESCRIPTION:
URL:https://www.crossroadchristian.church/event/6281/
LOCATION:Crossroad Christian Church\, 623 Bicyle Path\, Suite 5\, Port Jefferson Station\, NY\, 11776\, United States
CATEGORIES:Worship Service
END:VEVENT
BEGIN:VEVENT
DTSTART;TZID=America/New_York:20260322T110000
DTEND;TZID=America/New_York:20260322T130000
DTSTAMP:20260424T102333
CREATED:20260307T195025Z
LAST-MODIFIED:20260307T195025Z
UID:6283-1774177200-1774184400@www.crossroadchristian.church
SUMMARY:Worship Service
DESCRIPTION:
URL:https://www.crossroadchristian.church/event/6283/
LOCATION:Crossroad Christian Church\, 623 Bicyle Path\, Suite 5\, Port Jefferson Station\, NY\, 11776\, United States
CATEGORIES:Worship Service
END:VEVENT
BEGIN:VEVENT
DTSTART;TZID=America/New_York:20260329T110000
DTEND;TZID=America/New_York:20260329T130000
DTSTAMP:20260424T102333
CREATED:20260307T195024Z
LAST-MODIFIED:20260307T195024Z
UID:6284-1774782000-1774789200@www.crossroadchristian.church
SUMMARY:Palm Sunday Service
DESCRIPTION:
URL:https://www.crossroadchristian.church/event/6284/
LOCATION:Crossroad Christian Church\, 623 Bicyle Path\, Suite 5\, Port Jefferson Station\, NY\, 11776\, United States
CATEGORIES:Worship Service
END:VEVENT
END:VCALENDAR